BEGIN:VCALENDAR
PRODID:-//www.oakley.beds.sch.uk//EN
VERSION:2.0
METHOD:PUBLISH
BEGIN:VEVENT
DTSTART;TZID=America/New_York:20231122T
DTEND;TZID=America/New_York:20231128T
URL:https://www.oakley.beds.sch.uk/our-school/calendar/book-fair/
SUMMARY:Book Fair
LOCATION:
DESCRIPTION:
END:VEVENT
END:VCALENDAR