BEGIN:VCALENDAR
PRODID:-//www.oakley.beds.sch.uk//EN
VERSION:2.0
METHOD:PUBLISH
BEGIN:VEVENT
DTSTART;TZID=America/New_York:20250206T083000
DTEND;TZID=America/New_York:20250211T084500
URL:https://www.oakley.beds.sch.uk/our-school/calendar/book-fair-2/
SUMMARY:Book Fair
LOCATION:
DESCRIPTION:
END:VEVENT
END:VCALENDAR