BEGIN:VCALENDAR
PRODID:-//www.oakley.beds.sch.uk//EN
VERSION:2.0
METHOD:PUBLISH
BEGIN:VEVENT
DTSTART;TZID=America/New_York:20250324T
DTEND;TZID=America/New_York:20250327T
URL:https://www.oakley.beds.sch.uk/our-school/calendar/level-2-bikeability-year-5-and-6/
SUMMARY:Level 2 Bikeability Year 5 & 6
LOCATION:
DESCRIPTION:
END:VEVENT
END:VCALENDAR