BEGIN:VCALENDAR
PRODID:-//www.oakley.beds.sch.uk//EN
VERSION:2.0
METHOD:PUBLISH
BEGIN:VEVENT
DTSTART;TZID=America/New_York:20250703T180000
DTEND;TZID=America/New_York:20250703T193000
URL:https://www.oakley.beds.sch.uk/our-school/calendar/year-6-leavers-disco/
SUMMARY:Year 6 Leavers Disco
LOCATION:
DESCRIPTION:
END:VEVENT
END:VCALENDAR