BEGIN:VCALENDAR
PRODID:-//www.oakley.beds.sch.uk//EN
VERSION:2.0
METHOD:PUBLISH
BEGIN:VEVENT
DTSTART;TZID=America/New_York:20250714T173000
DTEND;TZID=America/New_York:20250714T191500
URL:https://www.oakley.beds.sch.uk/our-school/calendar/year-6-production-to-parents/
SUMMARY:Year 6 Production to parents
LOCATION:
DESCRIPTION:
END:VEVENT
END:VCALENDAR