BEGIN:VCALENDAR
PRODID:-//www.oakley.beds.sch.uk//EN
VERSION:2.0
METHOD:PUBLISH
BEGIN:VEVENT
DTSTART;TZID=America/New_York:20250718T140000
DTEND;TZID=America/New_York:20250718T150000
URL:https://www.oakley.beds.sch.uk/our-school/calendar/year-6-leavers-assembly/
SUMMARY:Year 6 Leavers Assembly
LOCATION:
DESCRIPTION:
END:VEVENT
END:VCALENDAR